BEGIN:VCALENDAR
VERSION:2.0
PRODID:-//MHCreations Blythweb//NONSGML Event Calendar//EN
CALSCALE:GREGORIAN
METHOD:PUBLISH
BEGIN:VEVENT
SUMMARY:Sew For Linus
DTSTART:20260425T090000Z
DTEND:20260425T150000Z
DTSTAMP:20260415T120526Z
UID:20260425T090000-18842-SewForLinus
DESCRIPTION:Taking place at Darsham Village Hall IP17 3FA (south from
Southwold, off A12). Project Linus UK is a volunteer-driven
non-profit organisation that creates and distributes handmade,
washable blankets and quilts to children aged 0-18 who are
sick, disabled, traumatised, or in need of comfort.
Plus a
destash of sale of non quilting fabrics and sewing notions.
LOCATION:see event text for venue information
ORGANIZER:see event text for venue information
STATUS:CONFIRMED
PRIORITY:0
END:VEVENT
END:VCALENDAR
Sew For Linus
Venue: see event text for venue information
Taking place at Darsham Village Hall IP17 3FA (south from Southwold, off A12). Project Linus UK is a volunteer-driven non-profit organisation that creates and distributes handmade, washable blankets and quilts to children aged 0-18 who are sick, disabled, traumatised, or in need of comfort.
Plus a destash of sale of non quilting fabrics and sewing notions.
Ticket Details: Booking is helpful but not essential. £10, includes refreshments. Entry to sale is FREE.
BEGIN:VCALENDAR
VERSION:2.0
PRODID:-//MHCreations Blythweb//NONSGML Event Calendar//EN
CALSCALE:GREGORIAN
METHOD:PUBLISH
BEGIN:VEVENT
SUMMARY:OPEN AFTERNOON at Halesworth Angel Bowls Club
DTSTART:20260425T130000Z
DTEND:20260424T230000Z
DTSTAMP:20260316T133652Z
UID:20260425T130000-18715-OPENAFTERNOONatHalesworthAngelBowlsClub
DESCRIPTION:Open Days are 25th April and on 2nd May. Everyone, with or
without experience, is welcome.
LOCATION:Halesworth Angel Bowls Club,Playing Field,Dairy Hill, H IP19 8JS
ORGANIZER;CN=Halesworth Angel Bowls
Club:MAILTO:halesworthangelbowlsclub@mail.com
STATUS:CONFIRMED
PRIORITY:0
END:VEVENT
END:VCALENDAR
OPEN AFTERNOON at Halesworth Angel Bowls Club
Organised by: Halesworth Angel Bowls Club
Venue: Halesworth Angel Bowls Club,Playing Field,Dairy Hill, Halesworth
IP19 8JSlink
Open Days are 25th April and on 2nd May. Everyone, with or without experience, is welcome.
BEGIN:VCALENDAR
VERSION:2.0
PRODID:-//MHCreations Blythweb//NONSGML Event Calendar//EN
CALSCALE:GREGORIAN
METHOD:PUBLISH
BEGIN:VEVENT
SUMMARY:Quiz Night, in Aid of Reydon Rainbows
DTSTART:20260425T180000Z
DTEND:20260424T230000Z
DTSTAMP:20260309T171236Z
UID:20260425T180000-18691-QuizNightinAidofReydonRainbows
DESCRIPTION:Teams of 4 - £3 per person. Bring your own drinks and snacks.
Raffle! Book early to avoid disappointment, limited places.
LOCATION:Cardinal Newman Hall, Wymering Road, Southwold IP18 6AF
ORGANIZER;CN=Reydon Rainbows:MAILTO:frogclock@hotmail.com
STATUS:CONFIRMED
PRIORITY:0
END:VEVENT
END:VCALENDAR